BEGIN:VCALENDAR
VERSION:2.0
PRODID:-//Ingenium - ECPv6.13.2.1//NONSGML v1.0//EN
CALSCALE:GREGORIAN
METHOD:PUBLISH
X-WR-CALNAME:Ingenium
X-ORIGINAL-URL:https://ingenium-web2.admin.uoc.gr/ingenium-main-site
X-WR-CALDESC:Events for Ingenium
REFRESH-INTERVAL;VALUE=DURATION:PT1H
X-Robots-Tag:noindex
X-PUBLISHED-TTL:PT1H
BEGIN:VTIMEZONE
TZID:Europe/Bucharest
BEGIN:DAYLIGHT
TZOFFSETFROM:+0200
TZOFFSETTO:+0300
TZNAME:EEST
DTSTART:20260329T010000
END:DAYLIGHT
BEGIN:STANDARD
TZOFFSETFROM:+0300
TZOFFSETTO:+0200
TZNAME:EET
DTSTART:20261025T010000
END:STANDARD
END:VTIMEZONE
BEGIN:VTIMEZONE
TZID:Europe/Athens
BEGIN:DAYLIGHT
TZOFFSETFROM:+0200
TZOFFSETTO:+0300
TZNAME:EEST
DTSTART:20250330T010000
END:DAYLIGHT
BEGIN:STANDARD
TZOFFSETFROM:+0300
TZOFFSETTO:+0200
TZNAME:EET
DTSTART:20251026T010000
END:STANDARD
END:VTIMEZONE
BEGIN:VEVENT
DTSTART;TZID=Europe/Bucharest:20260127T090000
DTEND;TZID=Europe/Bucharest:20260127T093000
DTSTAMP:20260420T212601
CREATED:20260109T105638Z
LAST-MODIFIED:20260109T115431Z
UID:10000056-1769504400-1769506200@ingenium-web2.admin.uoc.gr
SUMMARY:Lecture: From idea to product. Building ideas that matter - Senior Winter School @ TUIASI
DESCRIPTION:Speaker: Vlad GLIGA\, Rubik Hub
URL:https://ingenium-web2.admin.uoc.gr/ingenium-main-site/event/lecture-from-idea-to-product-building-ideas-that-matter/
LOCATION:TUIASI – Auditorium CH III\, Faculty of Chemical Engineering and Environmental Protection\, 73 Professor Dimitrie Mangeron Boulevard\, Iasi\, Iasi\, 700050\, Romania
CATEGORIES:10 Days of INGENIUM,Winter Schools
END:VEVENT
BEGIN:VEVENT
DTSTART;TZID=Europe/Bucharest:20260126T093000
DTEND;TZID=Europe/Bucharest:20260126T103000
DTSTAMP:20260420T212601
CREATED:20260109T104957Z
LAST-MODIFIED:20260109T110216Z
UID:10000055-1769419800-1769423400@ingenium-web2.admin.uoc.gr
SUMMARY:Opening Ceremony 10 Days of INGENIUM @ TUIASI
DESCRIPTION:
URL:https://ingenium-web2.admin.uoc.gr/ingenium-main-site/event/opening-ceremony-10-days-of-ingenium-tuiasi/
LOCATION:TUIASI – Aula Magna ”Carmen Sylva”\, Bulevardul Carol I nr. 11A\, Iasi\, Iasi\, 700506\, Romania
CATEGORIES:10 Days of INGENIUM
END:VEVENT
BEGIN:VEVENT
DTSTART;TZID=Europe/Bucharest:20260126T090000
DTEND;TZID=Europe/Bucharest:20260126T093000
DTSTAMP:20260420T212601
CREATED:20260109T104307Z
LAST-MODIFIED:20260109T110352Z
UID:10000054-1769418000-1769419800@ingenium-web2.admin.uoc.gr
SUMMARY:Registration of the participants - Senior Winter School 2026 @ TUIASI
DESCRIPTION:
URL:https://ingenium-web2.admin.uoc.gr/ingenium-main-site/event/registration-of-the-participants-senior-winter-school-2026/
LOCATION:TUIASI – Aula Magna ”Carmen Sylva”\, Bulevardul Carol I nr. 11A\, Iasi\, Iasi\, 700506\, Romania
CATEGORIES:10 Days of INGENIUM,Winter Schools
END:VEVENT
BEGIN:VEVENT
DTSTART;VALUE=DATE:20251028
DTEND;VALUE=DATE:20251030
DTSTAMP:20260420T212601
CREATED:20251021T081851Z
LAST-MODIFIED:20251021T140450Z
UID:10000028-1761609600-1761782399@ingenium-web2.admin.uoc.gr
SUMMARY:INGENIUM Academic Networking Meeting @ TUIASI - Engineering (STEM)
DESCRIPTION:TUIASI is welcoming INGENIUM staff for a 2-days\, on-site event with a central focus to enhance the learning opportunities for students and collaborations for academics and staff for education and research. \nThe partipiants will explore\, identify and establish the groundwork for new and developing existing initiatives that can lead to the creation of new joint courses\, programs\, and to joint PhD supervisions. \nTopics: \n\nPathway Programs – existing and new initiatives\nJoint Program in AI\nDevelopments of Blended Intensive Programs – BIPs\nMicrocredentials – existing and new initiatives\nJoint PhD supervision\, Joint PhD programs with a focus on Engineering/STEAM\n\nThis meeting is part of Academic Networking Meetings events that aims to offer lecturers and researchers a new format for networking with our partner universities on specific topics\, launching innovative teaching formats and research projects or further developing joint projects. \nWe kindly invite the participating staff to fill in this GOOGLE FORM by 22nd of October.
URL:https://ingenium-web2.admin.uoc.gr/ingenium-main-site/event/tuiasi-academic-networking-meeting-engineering-stem/
LOCATION:TUIASI\, Iasi\, Romania
CATEGORIES:Academic Networking,Ingenium Event,Onsite Events
ATTACH;FMTTYPE=image/jpeg:https://ingenium-web2.admin.uoc.gr/ingenium-main-site/wp-content/uploads/2025/10/120225_Ingenium_kuva-Pihla-Liukkonen-Kontrastia-12-scaled.jpg
END:VEVENT
END:VCALENDAR