BEGIN:VCALENDAR
VERSION:2.0
PRODID:-//Ingenium - ECPv6.13.2.1//NONSGML v1.0//EN
CALSCALE:GREGORIAN
METHOD:PUBLISH
X-WR-CALNAME:Ingenium
X-ORIGINAL-URL:https://ingenium-web2.admin.uoc.gr/ingenium-main-site
X-WR-CALDESC:Events for Ingenium
REFRESH-INTERVAL;VALUE=DURATION:PT1H
X-Robots-Tag:noindex
X-PUBLISHED-TTL:PT1H
BEGIN:VTIMEZONE
TZID:Europe/Athens
BEGIN:DAYLIGHT
TZOFFSETFROM:+0200
TZOFFSETTO:+0300
TZNAME:EEST
DTSTART:20250330T010000
END:DAYLIGHT
BEGIN:STANDARD
TZOFFSETFROM:+0300
TZOFFSETTO:+0200
TZNAME:EET
DTSTART:20251026T010000
END:STANDARD
END:VTIMEZONE
BEGIN:VEVENT
DTSTART;TZID=Europe/Athens:20251203T170000
DTEND;TZID=Europe/Athens:20251203T180000
DTSTAMP:20260420T094138
CREATED:20251127T082226Z
LAST-MODIFIED:20251127T082226Z
UID:10000048-1764781200-1764784800@ingenium-web2.admin.uoc.gr
SUMMARY:INGENIUM Founders Hub Online Kick-off Session
DESCRIPTION:We’re excited to invite you to the INGENIUM Founders Hub Online Kick-off Session\, a fun and interactive introduction to the community we are building together!\n\n???? Thursday\, 3 November 2025\n⏰ 16:00 CET\n???? Join via Zoom: https://h-ka-de.zoom-x.de/j/4468257468 \n\nWhat to Expect:\n\n\nKick-off overview & introduction\n\n\nInteractive activities\n\n\nShare your voice & help shape the next steps\n\n\nYour participation will help us co-create the Founders Hub experience across all INGENIUM universities. \n\n\n\nIngenium Founders Hub is a student-led initiative under the INGENIUM Student Partnership projects that brings together learners from diverse backgrounds and disciplines. The space fosters connection\, collaboration\, and personal as well as academic growth.\n\nOur mission in Founders Hub is to encourage an entrepreneurial culture across INGENIUM Universities by providing an open space where international students can network\, grow in leadership and soft skills\, and boldly pursue their entrepreneurial ambitions to create real impact.
URL:https://ingenium-web2.admin.uoc.gr/ingenium-main-site/event/ingenium-founders-hub-online-kick-off-session/
CATEGORIES:Student Partnership projects,Webinars,Workshops
ATTACH;FMTTYPE=image/jpeg:https://ingenium-web2.admin.uoc.gr/ingenium-main-site/wp-content/uploads/2025/11/image.jpg
LOCATION:https://h-ka-de.zoom-x.de/j/4468257468
END:VEVENT
END:VCALENDAR