BEGIN:VCALENDAR
VERSION:2.0
PRODID:-//Ingenium - ECPv6.13.2.1//NONSGML v1.0//EN
CALSCALE:GREGORIAN
METHOD:PUBLISH
X-WR-CALNAME:Ingenium
X-ORIGINAL-URL:https://ingenium-web2.admin.uoc.gr/ingenium-main-site
X-WR-CALDESC:Events for Ingenium
REFRESH-INTERVAL;VALUE=DURATION:PT1H
X-Robots-Tag:noindex
X-PUBLISHED-TTL:PT1H
BEGIN:VTIMEZONE
TZID:Europe/Rome
BEGIN:DAYLIGHT
TZOFFSETFROM:+0100
TZOFFSETTO:+0200
TZNAME:CEST
DTSTART:20250330T010000
END:DAYLIGHT
BEGIN:STANDARD
TZOFFSETFROM:+0200
TZOFFSETTO:+0100
TZNAME:CET
DTSTART:20251026T010000
END:STANDARD
END:VTIMEZONE
BEGIN:VEVENT
DTSTART;TZID=Europe/Rome:20251202T120000
DTEND;TZID=Europe/Rome:20251202T133000
DTSTAMP:20260420T062725
CREATED:20251114T124132Z
LAST-MODIFIED:20251201T083919Z
UID:10000043-1764676800-1764682200@ingenium-web2.admin.uoc.gr
SUMMARY:Special Edition Staff Academy webinar: Education Lab Results
DESCRIPTION:As the holiday season approaches we welcome you to the festival of webinars! \nDuring December in this special edition of Staff Academy webinars the Joint Education Lab projects are showcasing their projects! \nThroughout the academic year\, INGENIUM organises several public Staff Academy webinars where there are 1–3 short case presentations on cutting-edge teaching practices\, followed by a lively discussion and Q&A session. The webinars unfold on Zoom and are hosted by the South-Eastern Finland University of Applied Sciences (Xamk). \nPreliminary Schedule\n12:00–12:20 Disruptive Media Lab: A Cross-Alliance Virtual Hub for Radical STEAM Innovation\, Education and Public Engagement\n12:20-12:30 Discussion\n12:30–12:50 ASPIRE Student leadership Programme\n12:50–13:00 Discussion\n13:00–13:20 Micro-credential in Sustainability Reporting for SMEs\n13:20–13:30 Discussion \nRegister to the Webinar\n\nhttps://xamk-fi.zoom.us/meeting/register/u9GgWQIwQ3SUaFtpSmkCWg  \nRegistered persons will receive a confirmation email with the joining link. \nProjects in this webinar\nDisruptive Media Lab: A Cross-Alliance Virtual Hub for Radical STEAM Innovation\, Education and Public Engagement \nJeremiah Spillane from MTU is leading the Disruptive Media Lab (DML) project. MTU’s partners ar URN\, Xamk and HIS. DML is an interdisciplinary\, alliance-wide virtual STEAM lab and art movement designed to push boundaries in media innovation\, education\, and public engagement. Inspired by Coventry University’s Disruptive Media Learning Lab and the Science Gallery model\, the DML aims to foster a collaborative environment (for both staff and students) for radical media creation that invites public interaction\, engagement\, and experimentation. By combining experts with lab spaces and facilities from science\, technology\, engineering\, arts\, and mathematics (STEAM)\, the DML will empower participants to develop disruptive media that challenges traditional academic and social narratives\, facilitating a cross-alliance network of researchers\, artists\, and technologists. The result of these collaborations will see new and innovative teaching and learning opportunities emerge. \nDML’s aim is to promote interdisciplinarity and co-creation\, to innovate how faculty share knowledge about their disciplines through disruptive artistic interventions. The project leaders will establish a “Leonardo Group”\, comprising 50 members\, which will include specialists and students from all INGENIUM universities from across all STEAM disciplines. The Leonardo Group will also include other experts from communities peripheral to INGENIUM’s various European campuses. These might include\, but are not limited to street artists\, dancers\, social media influences\, comedians and so on. The aim of this Leonardo Group is to foster collaborations between academics and experts within INGENIUM and other creative and thought leaders outside of academic settings in our communities. These collaborations will draw on the various facilities – media labs\, science labs and so on – to create radical and/or artistic interventions to communicate knowledge and educate in new and disruptive ways. \nASPIRE Student leadership Programme \nAnSEO The Student Engagement Office\, Munster Technological University\, Cork\, Ireland. \nIn collaboration with South-Eastern Finland University of Applied Sciences\, Xamk\, Finland and The Technical University Gheorghe Asachi Iasi\, Romania. \nThe ASPIRE student leadership programme extends beyond traditional academic learning by developing essential leadership skills such as communication\, teamwork\, collaboration\, problem-solving\, and decision-making—competencies vital in today’s dynamic work environments. Through collaboration with INGENIUM partners in Iași and Xamk\, students are able to engage in real-world leadership scenarios\, receive personalised coaching\, and strengthen their emotional intelligence to support effective leadership. The programme’s topics are designed to build an appreciation for the personal and collaborative skills required for effective leadership\, including self-awareness and emotional intelligence to enhance interpersonal interactions\, effective communication to inspire and motivate others\, ethical decision-making to promote integrity and accountability\, team collaboration and conflict resolution to support productive group work\, and project management to guide students in leading initiatives from planning to execution with adaptability and resilience. Further enhancement of the programme will continue to enrich students’ academic experience and prepare them to transition confidently and resiliently into diverse workplace environments through sustained industry partnerships. \nSpeakers in the webinar: MTU: Angela Mc Glynn\, Róisín O’ Grady\, Shane O’ Mahony\, Rebecca Noonan\, Josh Ababon; TUIASI: Neculai Bagiu\, Adriana Bujor; Xamk:Kirsi Soulamo. \n  \nMicro-credential in Sustainability Reporting for SMEs \nThe Micro-credential in Sustainability Reporting for SMEs provides students and professionals with practical skills to comply with the CSRD and other European sustainability regulations. Developed by the Universities of Oviedo\, Skövde\, Chieti-Pescara\, and Crete\, the program combines hands-on learning and project-based activities. By bridging theory and practice\, the program fosters professionals capable of driving sustainability across European enterprises. \nFor the webinar\, Lara Tarquinio (Università degli Studi G. d’Annunzio Chieti-Pescara)\, Adina Popa (University of Skövde) and Irma Martínez García (Universidad de Oviedo) will be there. There is also a possibility that another member of the team may join.
URL:https://ingenium-web2.admin.uoc.gr/ingenium-main-site/event/special-edition-staff-academy-webinar/
CATEGORIES:Webinars
ATTACH;FMTTYPE=image/jpeg:https://ingenium-web2.admin.uoc.gr/ingenium-main-site/wp-content/uploads/2025/11/18.jpg
LOCATION:https://ingenium-web2.admin.uoc.gr/ingenium-main-site/event/special-edition-staff-academy-webinar/
END:VEVENT
BEGIN:VEVENT
DTSTART;TZID=Europe/Rome:20251204T120000
DTEND;TZID=Europe/Rome:20251204T133000
DTSTAMP:20260420T062725
CREATED:20251114T124533Z
LAST-MODIFIED:20251201T084411Z
UID:10000044-1764849600-1764855000@ingenium-web2.admin.uoc.gr
SUMMARY:Special Edition Staff Academy webinar: Education Lab Results
DESCRIPTION:As the holiday season approaches we welcome you to the festival of webinars! \nDuring December in this special edition of Staff Academy webinars the Joint Education Lab projects are showcasing their projects! \nThroughout the academic year\, INGENIUM organises several public Staff Academy webinars where there are 1–3 short case presentations on cutting-edge teaching practices\, followed by a lively discussion and Q&A session. The webinars unfold on Zoom and are hosted by the South-Eastern Finland University of Applied Sciences (Xamk). \nPreliminary Schedule\n12:00–12:20 COIL course\, “Tackle Real Work Life Challenges.\n12:20-12:30 Discussion\n12:30–12:50 Investigating Norman Cistercian Influences: A Cross-Cultural Exploration Between Normandy and Abruzzo\n12:50–13:00 Discussion\n13:00–13:20 Shared experimentation between European universities of the “L’Ascolto” project and implementation of AI in the “L’Ascolto” web platform.\n13:20–13:30 Discussion \nRegister to the Webinar\n\nhttps://xamk-fi.zoom.us/meeting/register/P-SNuP_pSI6ZoV9cd7uTQA  \nRegistered persons will receive a confirmation email with the joining link. \nProjects in this webinar\nCOIL course\, “Tackle Real Work Life Challenges\nThis COIL course project is led by Mariya Loginova from Xamk. Xamk is partnering with UNIOVI\, MTU\, URN\, TUIASI in this project. They are developing and testing the Ingenium COIL course\, “Tackle Real Work Life Challenges.” This course\, in collaboration with local companies\, provides students with real-world challenges. Teachers will act as coaches\, guiding international\, multilingual student teams through problem-solving processes\, enhancing their practical skills\, and preparing them for global workplaces. \nStudents will engage with business representatives\, work in multidisciplinary teams\, and develop problem-solving abilities. Teachers will facilitate learning and support student teams to ensure successful outcomes. The course also aims to foster networking among all parties involved: company representatives\, students\, teachers\, and RDI specialists\, creating a new model for international cooperation among Ingenium partners. The outcome will be a tested course and cooperation module. The process will be documented and an article published in an international scientific journal. \nInvestigating Norman Cistercian Influences: A Cross-Cultural Exploration Between Normandy and Abruzzo \nThis project offers students a unique\, hands-on experience with medieval cultural heritage. By visiting Cistercian abbeys and the State Archive of Siena\, students engage directly with both architectural monuments and historical documents. The program combines field trips\, guided analysis\, lectures\, and creative activities such as photo and video contests for a webinar. The aim is to enhance students’ understanding of medieval history\, archival research\, and cultural context\, while promoting active learning and collaboration. The project highlights the value of experiencing historical sources in person\, beyond digital tools\, and serves as a model for experiential learning in cultural heritage education. \nMaria Carreri (Ud’A)\,  Mario Marrocchi\, Marcella Lacanale \, and Gabriella Gente Magnan will be present at the webinar. \nShared experimentation between European universities of the “L’Ascolto” project and implementation of AI in the “L’Ascolto” web platform.\n \nThis project is led by Ida Verna from G.d’Annunzio University of Chieti-Pescara. MUS and Xamk are also joined in the project. Their goal is to experiment with the L’Ascolto project between European universities and to implement AI in the L’Ascolto web platform. The L’Ascolto is a web platform whose objective is the creation\, management and sharing of knowledge by education actors (teachers\, students\, institutional bodies and other stakeholders). The creation of such knowledge is the result of a holistic approach to teaching-learning processes\, based on a framework that combines the Deming cycle with the QFD Quality Function Deployment and Kolb’s experiential learning cycle. The aim of the L’Ascolto Approach is to enable teachers\, students and institutional bodies to use the same methodological approach to teaching improvement (innovation)\, with a single web platform. Although the actors of education use the platform at different times and in different ways\, they work towards the common goal of educational innovation\, with the same language (Listening Framework: constructive alignment combination of Biggs\, Bloom\, Dublin Descriptors\, Deming Cycle\, Kolb’s experiential learning). The creation\, management and sharing of knowledge is the output of a continuous cycle of planning\, management\, evaluation and improvement of all teaching processes (Curriculum and individual teaching considered as a whole)\, while these are in progress and for the benefit of all actors: \nTEACHERS: development of teachers’ professionalism (ENQA\, 2007; OCDE\, 2012; EC\, 2013; EHEA\, 2020) through their continuous self-training\, the result of the knowledge-sharing process (best practices) among all the teachers using the platform; \nSTUDENTS: enhancement of learning (EC\, 2017; ENQA\, 2020; EHEA\, 2020) implemented thanks to the promotion and drive for innovation that the holistic approach feeds into the Deming/Kolb cycle (Verna\, 2020) and that the platform manages and shares among the actors\, in terms of knowledge/competences; \nCOURSE COORDINATORS: development of academic leadership\, implemented thanks to the knowledge-sharing system that provides continuous feedback (listening to needs) to the coordinator for the improvement/innovation of the teaching processes designed\, managed and evaluated as a single system in continuous evolution. \nL’Ascolto is ultimately a pedagogical model for experiential learning for teachers\, students and institutional bodies.
URL:https://ingenium-web2.admin.uoc.gr/ingenium-main-site/event/special-edition-staff-academy-webinar-education-lab-results2/
CATEGORIES:Webinars
ATTACH;FMTTYPE=image/jpeg:https://ingenium-web2.admin.uoc.gr/ingenium-main-site/wp-content/uploads/2025/11/18.jpg
LOCATION:https://ingenium-web2.admin.uoc.gr/ingenium-main-site/event/special-edition-staff-academy-webinar-education-lab-results2/
END:VEVENT
BEGIN:VEVENT
DTSTART;TZID=Europe/Rome:20251208T120000
DTEND;TZID=Europe/Rome:20251208T133000
DTSTAMP:20260420T062725
CREATED:20251114T124901Z
LAST-MODIFIED:20251201T084619Z
UID:10000045-1765195200-1765200600@ingenium-web2.admin.uoc.gr
SUMMARY:Special Edition Staff Academy webinar: Education Lab Results
DESCRIPTION:As the holiday season approaches we welcome you to the festival of webinars! \nDuring December in this special edition of Staff Academy webinars the Joint Education Lab projects are showcasing their projects! \nThroughout the academic year\, INGENIUM organises several public Staff Academy webinars where there are 1–3 short case presentations on cutting-edge teaching practices\, followed by a lively discussion and Q&A session. The webinars unfold on Zoom and are hosted by the South-Eastern Finland University of Applied Sciences (Xamk). \nPreliminary Schedule\n12:00–12:20 Sustainable development of teaching and learning environments – developing the Ingenium Learning Spaces Learning Community \n12:20-12:30 Discussion\n12:30–12:50 INVEX (International VR-Experience)  \n12:50–13:00 Discussion\n13:00–13:20 IoT-Driven Environmental Monitoring for Innovative Sustainable Education (IT-EMISE)\n13:20–13:30 Discussion \nRegister to the Webinar\n\nhttps://xamk-fi.zoom.us/meeting/register/xBfB9j__TcKU3hFEUQtyWQ \nRegistered persons will receive a confirmation email with the joining link. \nProjects in this webinar\n Sustainable development of teaching and learning environments – developing the Ingenium Learning Spaces Learning Community  \nThe “Sustainable Development of Teaching and Learning Environments – Developing the Ingenium Learning Spaces Learning Community” project brings together Munster Technological University\, Ireland (MTU)\, University of Skövde\, Sweden (HiS)\, South-Eastern Finland University of Applied Sciences (XAMK)\, and Technical University of Iași\, Romania (TUIASI) in a collaborative exploration of learning environment development through complementary methodological lenses. Through a series of online meetings featuring virtual campus tours\, presentations\, and cross-institutional dialogue\, culminating in a site visit to MTU Ireland for campus visits and a seminar on “the third place” – the social threshold spaces where informal learning and community-building occur between formal educational environments – the partnership has developed a multifaceted framework integrating MTU’s person-centric stakeholder engagement model grounded in social justice\, identity\, and empowerment principles; XAMK’s scenario-based visioning methodology using workshop-generated personas to conceptualize future learning environments; HiS’s participatory action research approach yielding both theoretical frameworks and concrete spatial implementations; and TUIASI’s critical interrogation of the tension between architectural iconography\, heritage preservation\, and the creation of “spaces of radical openness” that challenge rather than merely accommodate learners. This Education Lab project addresses the complex interplay between physical space design\, pedagogical practice\, organizational culture\, and stakeholder participation\, recognizing that sustainable learning environment development requires not only innovative spatial solutions but also continuous engagement with the communities who inhabit\, transform\, and ultimately give meaning to these spaces. \nEach member of the team\, Peter Fogel (HIS)\, Matti Strengell (Xamk)\, Ancuta Rotaru (TUIASI) and Katie Power (MTU)  will share the presenting for the webinar. \nINVEX (International VR-Experience)   \nAs part of the EU4M Master’s program (of the ingenium universities Skövde\, UNIOVI and Karlsruhe)\, students have the opportunity to study in Gijón (UNIOVI)\, Spain. To promote the program\, a simulator is built that enables a virtual surfing experience on the beaches of Gijón. The initial mechanical setup and the infrastructure for data collection (360° videos + acceleration data) have already been developed in Germany. Data collection is carried out in parallel by students in Spain. In addition\, students in Sweden set up VR simulation models for the optimization of the surfing experience. Finally\, all partners contribute to the function of the systems making students experience the work in an international project. \n Speakers: Prof. Enrique Ruiz Zúñiga\, University of Skövde; Prof. Alberto Garcia Martinez\, UNIOVI; Prof. Martin Kipfmüller\, Hochschule Karlsruhe \n  \nIoT-Driven Environmental Monitoring for Innovative Sustainable Education (IT-EMISE) \nThis project aims to assemble Internet of Things (IoT) devices to create real-time environmental monitoring sensors. These sensors will analyse carbon dioxide (CO₂)\, particulate matter (PM)\, air temperature\, and air pressure. The primary goal is to build these sensors using readily available components and integrate them into educational courses related to environmental sampling and monitoring.\n \nShakil Regmi from Xamk will be presenting their work and Adrian O’Sullivan from MTU will also be present. Pictured also one project member Kati Kontinen form Xamk.
URL:https://ingenium-web2.admin.uoc.gr/ingenium-main-site/event/special-edition-staff-academy-webinar-education-lab-results3/
CATEGORIES:Webinars
ATTACH;FMTTYPE=image/jpeg:https://ingenium-web2.admin.uoc.gr/ingenium-main-site/wp-content/uploads/2025/11/18.jpg
LOCATION:https://ingenium-web2.admin.uoc.gr/ingenium-main-site/event/special-edition-staff-academy-webinar-education-lab-results3/
END:VEVENT
BEGIN:VEVENT
DTSTART;TZID=Europe/Rome:20251209T120000
DTEND;TZID=Europe/Rome:20251209T133000
DTSTAMP:20260420T062725
CREATED:20251114T125050Z
LAST-MODIFIED:20251128T101602Z
UID:10000046-1765281600-1765287000@ingenium-web2.admin.uoc.gr
SUMMARY:Special Edition Staff Academy webinar: Education Lab Results
DESCRIPTION:As the holiday season approaches we welcome you to the festival of webinars! \nDuring December in this special edition of Staff Academy webinars the Joint Education Lab projects are showcasing their projects! \nThroughout the academic year\, INGENIUM organises several public Staff Academy webinars where there are 1–3 short case presentations on cutting-edge teaching practices\, followed by a lively discussion and Q&A session. The webinars unfold on Zoom and are hosted by the South-Eastern Finland University of Applied Sciences (Xamk). \nPreliminary Schedule\n12:00–12:20 Rethinking Assessment and Feedback for Inclusive Learning amid Contemporary\nIssues in Higher Education (RAFIL-CIHE)\n12:20-12:30 Discussion\n12:30–12:50 CHEMIT: Exploring Organic Chemistry Through Immersive Technologies  \n12:50–13:00 Discussion\n13:00–13:20 Using assessment “OF\, FOR and AS” learning to develop a more impactful and authentic Intercultural Communication learning experience for students of MTU and HKA.\n13:20–13:30 Discussion \nRegister to the Webinar\n\nhttps://xamk-fi.zoom.us/meeting/register/ge-HQIakSVukartZZMBPNA \nRegistered persons will receive a confirmation email with the joining link. \nProjects in the Webinar\nRethinking Assessment and Feedback for Inclusive Learning amid Contemporary\nIssues in Higher Education (RAFIL-CIHE)\n \nThe INGENIUM Education Lab Rethinking Assessment and Feedback for Inclusive Learning brings together partners from Munster Technological University\, the University of Crete\, and South-Eastern Finland University of Applied Sciences to collaboratively design an innovative\, research-informed micro-credential on assessment and feedback in higher education. Throughout the project the team organised monthly webinars to explore shared challenges while exchanging institutional expertise and co-developing module components. This work culminated in an in-person meeting at the University of Crete\, where the team recorded structured webinar content covering assessment literacy\, student-centred design\, AI-enabled feedback\, culturally responsive and multimodal assessment\, and sustainable feedback practices. Together\, these activities lay the foundation for a jointly developed\, inclusive\, and future-focused assessment and feedback module for the INGENIUM alliance. \nOana Elena Colt\, Gheorghe Asachi Technical University of Iasi\nKallia Katsampoxaki-Hodgetts\,University of Crete\nCai Weaver\, South-Eastern Finland University of Applied Sciences\nTom O’Mahony\, Munster Technological University\n\n\n \nCHEMIT: Exploring Organic Chemistry Through Immersive Technologies  \n\nThe CHEMIT project brings together Munster Technological University (MTU)\, the University of Oviedo (UNIOVI)\, and Karlsruhe University of Applied Sciences (HKA) to explore how existing technological and didactic innovations in virtual-reality-based teaching can be transferred into new educational contexts. While HKA and MTU already use advanced VR infrastructures and social VR environments in their teaching\, the University of Oviedo sees strong potential for applying VR in its Chemistry programmes. CHEMIT therefore aims to map the current state of VR use across the three institutions\, identify opportunities for integrating VR into chemistry education\, and outline future concepts for meaningful VR-supported learning. \nMembers of the team presenting\nRaquel Soengas\, University of Oviedo\, Department of Organic and Inorganic Chemistry\nFiona Schmidbauer\, Karlsruhe University of Applied Sciences\, Institute for Intelligent Interaction and Immersive Experience (IIIX)\nJeremiah Spillane\, Munster Technological University\, Department of Technology Enhanced Learning \n\n\n\nUsing assessment “OF\, FOR and AS” learning to develop a more impactful and authentic Intercultural Communication learning experience for students of MTU and HKA. \nDavid O Hanlon from MTU is leading the project and MTU is collaborating with MTU. They focus on the development of intercultural competence (UNESCO\, 2013) among students from Munster Technological University (MTU) and Karlsruhe University of Applied Sciences (HKA). By “internationalising” the learning experience (through the use of asynchronous and synchronous communication tools available on the INGENIUM Moodle Learning Management System- LMS)\, students of International Communication (from the International Business programme in MTU) and Business English (from a variety of programmes in HKA) will have the opportunity to experience authentic international communication between one another (without having to travel abroad). This project connects students through self- and peer-assessment of key communication and interpersonal skills (delivery of feedback\, presenting to an international audience\, networking and cultural/emotional intelligence) using co-designed rubrics. Online collaboration and reflection deepen intercultural understanding and support the development of cultural and emotional intelligence. They aim to refine the approach based on student feedback and share the project’s outcomes across INGENIUM.
URL:https://ingenium-web2.admin.uoc.gr/ingenium-main-site/event/special-edition-staff-academy-webinar-education-lab-results/
CATEGORIES:Webinars
ATTACH;FMTTYPE=image/jpeg:https://ingenium-web2.admin.uoc.gr/ingenium-main-site/wp-content/uploads/2025/11/18.jpg
LOCATION:https://ingenium-web2.admin.uoc.gr/ingenium-main-site/event/special-edition-staff-academy-webinar-education-lab-results/
END:VEVENT
END:VCALENDAR