BEGIN:VCALENDAR
VERSION:2.0
PRODID:-//Ingenium - ECPv6.13.2.1//NONSGML v1.0//EN
CALSCALE:GREGORIAN
METHOD:PUBLISH
X-ORIGINAL-URL:https://ingenium-web2.admin.uoc.gr/ingenium-main-site
X-WR-CALDESC:Events for Ingenium
REFRESH-INTERVAL;VALUE=DURATION:PT1H
X-Robots-Tag:noindex
X-PUBLISHED-TTL:PT1H
BEGIN:VTIMEZONE
TZID:Europe/Stockholm
BEGIN:DAYLIGHT
TZOFFSETFROM:+0100
TZOFFSETTO:+0200
TZNAME:CEST
DTSTART:20250330T010000
END:DAYLIGHT
BEGIN:STANDARD
TZOFFSETFROM:+0200
TZOFFSETTO:+0100
TZNAME:CET
DTSTART:20251026T010000
END:STANDARD
END:VTIMEZONE
BEGIN:VTIMEZONE
TZID:Europe/Athens
BEGIN:DAYLIGHT
TZOFFSETFROM:+0200
TZOFFSETTO:+0300
TZNAME:EEST
DTSTART:20250330T010000
END:DAYLIGHT
BEGIN:STANDARD
TZOFFSETFROM:+0300
TZOFFSETTO:+0200
TZNAME:EET
DTSTART:20251026T010000
END:STANDARD
END:VTIMEZONE
BEGIN:VTIMEZONE
TZID:Europe/Paris
BEGIN:DAYLIGHT
TZOFFSETFROM:+0100
TZOFFSETTO:+0200
TZNAME:CEST
DTSTART:20250330T010000
END:DAYLIGHT
BEGIN:STANDARD
TZOFFSETFROM:+0200
TZOFFSETTO:+0100
TZNAME:CET
DTSTART:20251026T010000
END:STANDARD
END:VTIMEZONE
BEGIN:VTIMEZONE
TZID:Europe/Berlin
BEGIN:DAYLIGHT
TZOFFSETFROM:+0100
TZOFFSETTO:+0200
TZNAME:CEST
DTSTART:20250330T010000
END:DAYLIGHT
BEGIN:STANDARD
TZOFFSETFROM:+0200
TZOFFSETTO:+0100
TZNAME:CET
DTSTART:20251026T010000
END:STANDARD
END:VTIMEZONE
BEGIN:VEVENT
DTSTART;TZID=Europe/Stockholm:20251104T120000
DTEND;TZID=Europe/Stockholm:20251104T133000
DTSTAMP:20260420T055401
CREATED:20250917T094236Z
LAST-MODIFIED:20251028T103745Z
UID:10000009-1762257600-1762263000@ingenium-web2.admin.uoc.gr
SUMMARY:Staff Academy Webinar: Gamification
DESCRIPTION:Throughout the academic year\, INGENIUM organises several public Staff Academy webinars where there are 1–3 short case presentations on cutting-edge teaching practices\, followed by a lively discussion and Q&A session. The webinars unfold on Zoom and are hosted by the South-Eastern Finland University of Applied Sciences (Xamk). \nRegister here!\nTheme of this webinar is Gamification. \nPreliminary Schedule\n12:00–12:20 Marcus Nohlberg\, HIS: Experiences from Developing a Pedagogical Game: Siguru\n12:20–12:30 Discussion\n12:30–12:50 Rainer Neumann\, HKA: Gamification as a Driver for Motivation?\n12:50–13:00 Discussion\n13:00–13:20 Cristina Vatavu\, TUIASI: Game-like activities in electrical circuits\n13:20–13:30 Discussion \nRegister to the webinar here: https://xamk-fi.zoom.us/meeting/register/_Uyvau4uR1iituwqIDyYiQ \nSpeakers and their topics\nMarcus Nohlberg is an Associate Professor in Information Technology and a researcher specializing in the human aspects of cybersecurity and digital behavior. With more than two decades of academic and industry experience\, he explores how people and technology interact\, often revealing unexpected patterns and opportunities for learning. When not developing new ways to make security awareness engaging\, he works to make complex ideas about technology and society accessible to everyone. \n\nExperiences from Developing a Pedagogical Game: Siguru\n\nWhat happens when something traditionally seen as dull\, complex\, and uninspiring\, such as cybersecurity training\, is transformed into an activity that is engaging\, social\, and even enjoyable? With Siguru\, we set out to redefine awareness training through gamification and research-based design. Can games truly improve learning\, motivation\, and collaboration? This session shares key insights\, challenges\, and lessons learned from developing Siguru\, a pedagogical cybersecurity card game that turns serious topics into meaningful and memorable learning experiences.\n\n\n\nRainer Neumann\, holds a doctorate in computer science and is a professor of business informatics and currently Vice-President for Teaching at Karlsruhe University of Applied Sciences. In various events\, he deals with topics such as motivation\, self-perception and work organisation. \n\nGamification as a Driver for Motivation?\n\nYou don’t have to play games – but you do have to learn and work\, right?\nWhy do people play games\, and what motivates them to do so?\nThis short lecture outlines the basic concepts of several motivation theories and uses the example of a gamification framework to show how playful elements can increase motivation.\n\n\n\nCristina Vatavu\, Professor at TUIASI\, is passionate about non-formal education and unconventional learning methods. She has 30 years in electrical engineering education\, with a PhD in electrical engineering on fuzzy logic control algorithms.  She is concerned with implementing the Oxford comma in Romanian. She believes that a good understanding is more valuable than a good grade. \n\nGame-like activities in electrical circuits\n\nAn exercise for the formation of transversal and professional competencies in the field of electrical engineering is presented\, which activates both skills and attitudes. The exercise called BLINDCOPY is a game developed on the fundamental design principles of constructivism. It can be applied in disciplines such as Fundamentals of Electrical Engineering or Electrical Circuit Theory\, but is not limited to these specific areas. It is a playful activity that relaxes the atmosphere and provides uniqueness to curricular applications. The main goal of the exercise is to understand the principles of electrical circuit topology (node\, branch and loop) and to change the common perception of what an electrical diagram should look like (from a graphic sketch to an arrangement of interconnected elements). Another secondary goal is to form and strengthen communication skills and teamwork skills.\n\n\n\n  \nIf you would like to present your idea in a Staff Academy Webinar\, please contact ingenium@xamk.fi. We will get in touch with the speakers before the event and talk more about the arrangements. As a speaker please remember to also register as a participant for the webinar. \nStaff Academy event recordings and webinars will be published on INGENIUM YouTube channel. \n 
URL:https://ingenium-web2.admin.uoc.gr/ingenium-main-site/event/staff-academy-webinar-gamification/
LOCATION:https://xamk-fi.zoom.us/s/63967659210
CATEGORIES:Webinars
ATTACH;FMTTYPE=image/jpeg:https://ingenium-web2.admin.uoc.gr/ingenium-main-site/wp-content/uploads/2025/09/staff-academy-winter-2026.jpg
END:VEVENT
BEGIN:VEVENT
DTSTART;VALUE=DATE:20251110
DTEND;VALUE=DATE:20251115
DTSTAMP:20260420T055401
CREATED:20251105T103536Z
LAST-MODIFIED:20251106T125933Z
UID:10000032-1762732800-1763164799@ingenium-web2.admin.uoc.gr
SUMMARY:INGENIUM Sustainability Week @ Xamk
DESCRIPTION:We’re celebrating INGENIUM’s Sustainability Week at Xamk from 10–14 November! Share your own sustainability tips with us!  \nThroughout the week\, we want to highlight the small\, concrete everyday actions that students and staff are already taking toward a more sustainable future. \nOn Wednesday\, we’ll be collecting sustainability tips and actions from students and staff on the Mikkeli and Kouvola campuses. You can also submit your ideas all week via Padlet! \nShare your sustainability tip or action! \n\nA Padlet has been opened – add your tip or action anytime during the week\nOn Wednesday\, you can also share your tip in person:\n\nKouvola campus: Main building lobby\nMikkeli campus: D-building lobby\n\n\nWhat do you do at home?\nWhat do you do on campus?\nWhat do you do in your daily life?\nWhat is your small but recurring sustainability action that often goes unnoticed?\n\nSmall actions add up. Sharing practical tips is often the most effective way to inspire change. \nWe’ll also be participating in the INGENIUM Sustainability Hackathon during the week.
URL:https://ingenium-web2.admin.uoc.gr/ingenium-main-site/event/ingenium-sustainability-week-xamk/
LOCATION:Xamk Kotka\, Salakuljettajantie 4\, Kotka\, 48100\, Finland
CATEGORIES:Onsite Events
ATTACH;FMTTYPE=image/jpeg:https://ingenium-web2.admin.uoc.gr/ingenium-main-site/wp-content/uploads/2025/11/ING25_DAY4-35.jpg
END:VEVENT
BEGIN:VEVENT
DTSTART;VALUE=DATE:20251110
DTEND;VALUE=DATE:20251115
DTSTAMP:20260420T055401
CREATED:20251108T091930Z
LAST-MODIFIED:20251112T100851Z
UID:10000041-1762732800-1763164799@ingenium-web2.admin.uoc.gr
SUMMARY:INGENIUM Sustainability Week @UDA
DESCRIPTION:UdA takes part in INGENIUM’s Sustainability Week with two hands-on activities in Chieti–Pescara that spotlight circularity and skills for the green transition. \nWhat’s happening\nInside a Cutting-Edge MBT Plant (DECO S.p.A.)Date: 10 November — Location: Chieti\, località CasoniGet a close look at TMB/MBT (Mechanical Biological Treatment): how residual municipal waste is mechanically sorted and biologically treated to recover materials.Registration (limited seats): https://forms.gle/Cg5nHN7vwpESdck46Note: no ECTS recognition. \nINGENIUM SDGs Hackathon (hosted by University of Skövde)Dates: 12–13 November (online)Team up with peers from 10 universities to tackle real sustainability challenges and earn a digital badge. \nWho can join: INGENIUM students and staff. \n\n\n\n\n\n\n\n\nWe look forward to seeing you during the week and sharing updates from our activities!
URL:https://ingenium-web2.admin.uoc.gr/ingenium-main-site/event/ingenium-sustainability-week-uda/2025-11-10/1/
LOCATION:UDA\, Chieti\, Italy
CATEGORIES:Onsite Events
ATTACH;FMTTYPE=image/png:https://ingenium-web2.admin.uoc.gr/ingenium-main-site/wp-content/uploads/2025/11/Screenshot-2025-11-12-alle-10.35.28.png
END:VEVENT
BEGIN:VEVENT
DTSTART;VALUE=DATE:20251110
DTEND;VALUE=DATE:20251115
DTSTAMP:20260420T055401
CREATED:20251111T092234Z
LAST-MODIFIED:20251111T092640Z
UID:10000040-1762732800-1763164799@ingenium-web2.admin.uoc.gr
SUMMARY:INGENIUM Sustainability Week @HKA
DESCRIPTION:Join us for INGENIUM Sustainability Week at HKA! \nFrom 10-14 November we are focusing on sustainability & well-being in Karlsruhe\, Germany. \nHighlights of the week include: \n\nParticipation in the INGENIUM Sustainability Hackathon\n12-13 November / online and at HKA\nStudent exhibit on energy system transformation “Der Heizhammer”;\n11-14 November / Foyer\, Building B\nMindful Yoga for Everyone\n11 November / 9-10 am\n12 November / 12-13 pm\nBuilding B\, Room 118
URL:https://ingenium-web2.admin.uoc.gr/ingenium-main-site/event/ingenium-sustainability-week-hka/
LOCATION:HKA\, Moltkestr. 30\, Karlsruhe\, 76133\, Germany
CATEGORIES:Onsite Events
END:VEVENT
BEGIN:VEVENT
DTSTART;VALUE=DATE:20251110
DTEND;VALUE=DATE:20251111
DTSTAMP:20260420T055401
CREATED:20251108T091930Z
LAST-MODIFIED:20251112T100851Z
UID:10000042-1762761600-1762794000@ingenium-web2.admin.uoc.gr
SUMMARY:INGENIUM Sustainability Week @UDA
DESCRIPTION:UdA takes part in INGENIUM’s Sustainability Week with two hands-on activities in Chieti–Pescara that spotlight circularity and skills for the green transition. \nWhat’s happening\nInside a Cutting-Edge MBT Plant (DECO S.p.A.)Date: 10 November — Location: Chieti\, località CasoniGet a close look at TMB/MBT (Mechanical Biological Treatment): how residual municipal waste is mechanically sorted and biologically treated to recover materials.Registration (limited seats): https://forms.gle/Cg5nHN7vwpESdck46Note: no ECTS recognition. \nINGENIUM SDGs Hackathon (hosted by University of Skövde)Dates: 12–13 November (online)Team up with peers from 10 universities to tackle real sustainability challenges and earn a digital badge. \nWho can join: INGENIUM students and staff. \n\n\n\n\n\n\n\n\nWe look forward to seeing you during the week and sharing updates from our activities!
URL:https://ingenium-web2.admin.uoc.gr/ingenium-main-site/event/ingenium-sustainability-week-uda/2025-11-10/2/
LOCATION:UDA\, Chieti\, Italy
CATEGORIES:Onsite Events
ATTACH;FMTTYPE=image/png:https://ingenium-web2.admin.uoc.gr/ingenium-main-site/wp-content/uploads/2025/11/Screenshot-2025-11-12-alle-10.35.28.png
END:VEVENT
BEGIN:VEVENT
DTSTART;VALUE=DATE:20251111
DTEND;VALUE=DATE:20251113
DTSTAMP:20260420T055401
CREATED:20251103T080945Z
LAST-MODIFIED:20251103T084849Z
UID:10000030-1762819200-1762991999@ingenium-web2.admin.uoc.gr
SUMMARY:Academic Networking Event @ HiS - Life Science & Health
DESCRIPTION:The Academic Staff Meetings\, have the purpose of finding new and developing existing collaborations in education and research that can lead to development of new joint courses and programmes\, in particular INGENIUM pathway and flagship programmes and microcredentials\, and to new joint research projects. \nIn this meeting hosted by the University of Skövde\, Sweden\, one track will focus on the proposed joint pathway programmes in Biomedicine and Bioscience. A parallel track will focus on Health sciences\, to allow for networking and discussions in the areas of nursing sciences and in public health. \nWe invite 2-3 academic staff per track from partners that are interested in collaborating in these areas. A detailed agenda with locations will be sent to participants after registration has closed. \nRegistration until October 31st 2025. \nFor more information on how to apply\, contact your local INGENIUM Office for details. \nProgramme and travel information
URL:https://ingenium-web2.admin.uoc.gr/ingenium-main-site/event/academic-network-event-his-life-science-health/
LOCATION:HIS\, Skövde\, Sweden
CATEGORIES:Academic Networking,Onsite Events
ATTACH;FMTTYPE=image/jpeg:https://ingenium-web2.admin.uoc.gr/ingenium-main-site/wp-content/uploads/2025/10/120225_Ingenium_kuva-Pihla-Liukkonen-Kontrastia-12-scaled.jpg
END:VEVENT
BEGIN:VEVENT
DTSTART;VALUE=DATE:20251112
DTEND;VALUE=DATE:20251114
DTSTAMP:20260420T055401
CREATED:20250825T063310Z
LAST-MODIFIED:20251105T144901Z
UID:10000004-1762905600-1763078399@ingenium-web2.admin.uoc.gr
SUMMARY:SDGs Hackathon at the INGENIUM Sustainability Week
DESCRIPTION:Welcome to join the SDGs Hackathon at the INGENIUM Sustainability Week! \nThis fall the SDGs INGENIUM Hackathon is focusing on Sustainable Development as it takes place during the INGENIUM Sustainable Week. Students from all 10 INGENIUM member universities across Europe will attend over two days to create\, discuss\, and reflect on sustainable development issues such as campus climate resilience\, transportation\, waste management etc. \n  \nThe goal with the hackathon is  \n\nto encourage students to think outside the box and develop creative solutions to real-world problems\nto encourage teamwork where people with diverse skills and from different cultures connect\nand to learn and understand about challenges in our society but also feel the need to take action.\n\n  \nInformation on how to participate will be announced soon.
URL:https://ingenium-web2.admin.uoc.gr/ingenium-main-site/event/hackathon-at-the-ingenium-sustainable-week/
LOCATION:https://ingenium-web2.admin.uoc.gr/ingenium-main-site/event/hackathon-at-the-ingenium-sustainable-week/
CATEGORIES:Hackathons,Ingenium Event,Workshops
ATTACH;FMTTYPE=image/jpeg:https://ingenium-web2.admin.uoc.gr/ingenium-main-site/wp-content/uploads/2025/08/DSU-Programmering-studenter-1239-1.jpg
END:VEVENT
BEGIN:VEVENT
DTSTART;VALUE=DATE:20251113
DTEND;VALUE=DATE:20251115
DTSTAMP:20260420T055401
CREATED:20251001T094712Z
LAST-MODIFIED:20251103T093615Z
UID:10000024-1762992000-1763164799@ingenium-web2.admin.uoc.gr
SUMMARY:Academic Networking Event @ URN – Meeting of the Language Center Directors
DESCRIPTION:URN will welcome the Language Center Directors (or equivalents) from the INGENIUM partner universities. \nAs part of Work Package 9.3 “INGENIUM Multilingualism and Multiculturalism”\, the University of Rouen Normandy (URN) is pleased to host the Academic Networking Event – Meeting of the Language Center Directors/Language Course Coordinators\, on November 13–14\, 2025. \nThis meeting aims to: \n\nSet up a network of Language Center Directors/Coordinators\nStreamline language and culture courses to build a joint INGENIUM Language and Culture Course Offer\nReflect on the Deliverable and explore strategies to promote it
URL:https://ingenium-web2.admin.uoc.gr/ingenium-main-site/event/academic-networking-event-meeting-of-the-language-center-directors/
LOCATION:URN\, 1 rue Thomas Becket\, Mont-Saint-Aignan\, 76821\, France
CATEGORIES:Academic Networking,Onsite Events
ATTACH;FMTTYPE=image/jpeg:https://ingenium-web2.admin.uoc.gr/ingenium-main-site/wp-content/uploads/2025/10/120225_Ingenium_kuva-Pihla-Liukkonen-Kontrastia-12-scaled.jpg
END:VEVENT
BEGIN:VEVENT
DTSTART;TZID=Europe/Berlin:20251117T103000
DTEND;TZID=Europe/Berlin:20251117T120000
DTSTAMP:20260420T055401
CREATED:20251106T121913Z
LAST-MODIFIED:20251112T164533Z
UID:10000038-1763375400-1763380800@ingenium-web2.admin.uoc.gr
SUMMARY:Launch of the Joint Education Call - 1st Info Session
DESCRIPTION:Europe’s Next Joint Academic Offers Start Now. Be One of the Educators shaping them\n\n\n\n\n\nThe INGENIUM European University Alliance invites all academic staff and programme coordinators across its 10 partner institutions to join in shaping transformative academic offers that will define the future of higher education within our community.  \nThis 2025 Joint Academic Offers initiative aims to foster collaborative education across INGENIUM universities\, creating new opportunities for students and faculty alike. The call is particularly targeted to support the implementation of collaboration ideas initiated by INGENIUM initiatives like the Education Labs\, Staff Academy\, and INGENIUM Research Groups. \nDuring the webinar\, we will introduce the call and highlight the five pillars for which we encourage submitting proposals: \n\n\nJoint Bachelor’s and Master’s Programmes\,\n\n\nJoint PhD Programmes\, \n\n\nMicro-credentials\,\n\n\nCollaborative teaching and learning initiatives\, including (among others) Erasmus+ Blended Intensive programmes. These initiatives are particularly targeted (but not limited to) to the provision of international learning for the INGENIUM Pathway Programmes.\n\n\nLocal Course Offerings for INGENIUM Course Catalogue \n\n 
URL:https://ingenium-web2.admin.uoc.gr/ingenium-main-site/event/launch-of-the-joint-education-call-1/
LOCATION:https://teams.microsoft.com/l/meetup-join/19%3ameeting_Yjg3ODFhMTAtMzk0Zi00YmJmLWE5ZjAtZDU1MGFkYmZiMzEz%40thread.v2/0?context=%7b%22Tid%22%3a%2205ea74a3-92c5-4c31-978a-925c3c799cd0%22%2c%22Oid%22%3a%220550fcc6-1ca7-4743-b09d-7f52ff643d3a%22%7d
CATEGORIES:Calls for participation,Ingenium Event,Webinars
ATTACH;FMTTYPE=image/jpeg:https://ingenium-web2.admin.uoc.gr/ingenium-main-site/wp-content/uploads/2025/11/2025-call-for-joint-academic-offers.jpg
END:VEVENT
BEGIN:VEVENT
DTSTART;VALUE=DATE:20251118
DTEND;VALUE=DATE:20251120
DTSTAMP:20260420T055401
CREATED:20251031T114253Z
LAST-MODIFIED:20251031T114421Z
UID:10000029-1763424000-1763596799@ingenium-web2.admin.uoc.gr
SUMMARY:INGENIUM Academic Networking Meeting @ Xamk- Social Work & Psychology
DESCRIPTION:Xamk is welcoming INGENIUM staff for a 2-days\, on-site event with a central focus on the planned Pathway Programme. Preliminary name of the planned Pathway program is Psychology and Social Work for Wellbeing in Digital and Multicultural World. \nGoal of the meeting is to get concrete plans for developing shared courses for Social Work Pathway. The goal is to gain an understanding of the themes of the collaborative study modules and the strengths/interests of the partners in the offering. \nParticipants: We expect 2-3 academic staff of Social Work/Care degrees to be directly involved in the development and implementation Social Work Pathway studies. \nThe Preliminary Program can be found here. \nThis meeting is part of Academic Networking Meetings events that aims to offer lecturers and researchers a new format for networking with our partner universities on specific topics\, launching innovative teaching formats and research projects or further developing joint projects. \nRegistration is open until October 31st 2025. Contact person at Xamk is Harri Mäkinen.
URL:https://ingenium-web2.admin.uoc.gr/ingenium-main-site/event/ingenium-academic-networking-meeting-xamk-social-work/
LOCATION:Xamk Kotka\, Salakuljettajantie 4\, Kotka\, 48100\, Finland
CATEGORIES:Academic Networking,Ingenium Event,Onsite Events
ATTACH;FMTTYPE=image/jpeg:https://ingenium-web2.admin.uoc.gr/ingenium-main-site/wp-content/uploads/2025/10/120225_Ingenium_kuva-Pihla-Liukkonen-Kontrastia-12-scaled.jpg
END:VEVENT
BEGIN:VEVENT
DTSTART;VALUE=DATE:20251124
DTEND;VALUE=DATE:20251125
DTSTAMP:20260420T055401
CREATED:20250919T121910Z
LAST-MODIFIED:20251111T142609Z
UID:10000018-1763942400-1764028799@ingenium-web2.admin.uoc.gr
SUMMARY:INGENIUM Well-Being Day @ Skövde
DESCRIPTION:As part of INGENIUM’s commitment to foster student well-being\, several partner universities are hosting Well-Being Days – URN\, UniOvi\, TUIASI and HIS. \nThese events encourage students to discover a variety of activities available on their campuses that promote both physical and mental health. The aim is to encourage a balanced lifestyle – nurturing a healthy mind in a healthy body. \nIn Skövde you can take a pause\, recharge your energy\, and discover how well-being and creativity can become part of everyday student life by: \n\nMeeting the student health service over smoothies\, tea/coffee\, crisp and get information on wellbeing;\nTaking a break to recover in the Calm Corner;\nSharing what you are grateful for through our Thankfulness wall;\nGet inspired by literature regarding mental and psychical health\, recovery and so much more from books available at the Mini Library for Balance and wellbeing (in the University library);\nAnd join our dedicated Webinar: Promote Your Mental Health – from 15:15–16:00 p.m.\n\nSee full programme here. \n  \n 
URL:https://ingenium-web2.admin.uoc.gr/ingenium-main-site/event/well-being-days-5/
LOCATION:HIS\, Skövde\, Sweden
CATEGORIES:Ingenium Event,Onsite Events
END:VEVENT
BEGIN:VEVENT
DTSTART;TZID=Europe/Berlin:20251126T120000
DTEND;TZID=Europe/Berlin:20251126T133000
DTSTAMP:20260420T055401
CREATED:20251106T123451Z
LAST-MODIFIED:20251112T164521Z
UID:10000039-1764158400-1764163800@ingenium-web2.admin.uoc.gr
SUMMARY:Launch of the Joint Education Call - 2nd Info Session - with break out rooms to answer individual questions
DESCRIPTION:Europe’s Next Joint Academic Offers Start Now. Be One of the Educators shaping them\n\n\n\n\n\nThe INGENIUM European University Alliance invites all academic staff and programme coordinators across its 10 partner institutions to join in shaping transformative academic offers that will define the future of higher education within our community.  \nThis 2025 Joint Academic Offers initiative aims to foster collaborative education across INGENIUM universities\, creating new opportunities for students and faculty alike. The call is particularly targeted to support the implementation of collaboration ideas initiated by INGENIUM initiatives like the Education Labs\, Staff Academy\, and INGENIUM Research Groups. \nDuring the webinar\, we will introduce the call and highlight the five pillars for which we encourage submitting proposals: \n\n\nJoint Bachelor’s and Master’s Programmes\,\n\n\nJoint PhD Programmes\, \n\n\nMicro-credentials\,\n\n\nCollaborative teaching and learning initiatives\, including (among others) Erasmus+ Blended Intensive programmes. These initiatives are particularly targeted (but not limited to) to the provision of international learning for the INGENIUM Pathway Programmes.\n\n\nLocal Course Offerings for INGENIUM Course Catalogue \n\nFollowing the general presentation of the call\, there will be break out rooms to answer individual questions regarding the different pillars of the call and provide a networking opportunity.
URL:https://ingenium-web2.admin.uoc.gr/ingenium-main-site/event/launch-of-the-joint-education-call-2/
LOCATION:https://h-ka-de.zoom-x.de/meeting/register/Ak7bOB3qSGyRA8NHXJ5zrA
CATEGORIES:Calls for participation,Ingenium Event,Webinars
ATTACH;FMTTYPE=image/jpeg:https://ingenium-web2.admin.uoc.gr/ingenium-main-site/wp-content/uploads/2025/11/2025-call-for-joint-academic-offers.jpg
END:VEVENT
END:VCALENDAR