BEGIN:VCALENDAR
VERSION:2.0
PRODID:-//Ingenium - ECPv6.13.2.1//NONSGML v1.0//EN
CALSCALE:GREGORIAN
METHOD:PUBLISH
X-WR-CALNAME:Ingenium
X-ORIGINAL-URL:https://ingenium-web2.admin.uoc.gr/ingenium-main-site
X-WR-CALDESC:Events for Ingenium
REFRESH-INTERVAL;VALUE=DURATION:PT1H
X-Robots-Tag:noindex
X-PUBLISHED-TTL:PT1H
BEGIN:VTIMEZONE
TZID:Europe/Paris
BEGIN:DAYLIGHT
TZOFFSETFROM:+0100
TZOFFSETTO:+0200
TZNAME:CEST
DTSTART:20250330T010000
END:DAYLIGHT
BEGIN:STANDARD
TZOFFSETFROM:+0200
TZOFFSETTO:+0100
TZNAME:CET
DTSTART:20251026T010000
END:STANDARD
END:VTIMEZONE
BEGIN:VTIMEZONE
TZID:Europe/Helsinki
BEGIN:DAYLIGHT
TZOFFSETFROM:+0200
TZOFFSETTO:+0300
TZNAME:EEST
DTSTART:20250330T010000
END:DAYLIGHT
BEGIN:STANDARD
TZOFFSETFROM:+0300
TZOFFSETTO:+0200
TZNAME:EET
DTSTART:20251026T010000
END:STANDARD
END:VTIMEZONE
BEGIN:VTIMEZONE
TZID:Europe/Stockholm
BEGIN:DAYLIGHT
TZOFFSETFROM:+0100
TZOFFSETTO:+0200
TZNAME:CEST
DTSTART:20250330T010000
END:DAYLIGHT
BEGIN:STANDARD
TZOFFSETFROM:+0200
TZOFFSETTO:+0100
TZNAME:CET
DTSTART:20251026T010000
END:STANDARD
END:VTIMEZONE
BEGIN:VTIMEZONE
TZID:Europe/Athens
BEGIN:DAYLIGHT
TZOFFSETFROM:+0200
TZOFFSETTO:+0300
TZNAME:EEST
DTSTART:20250330T010000
END:DAYLIGHT
BEGIN:STANDARD
TZOFFSETFROM:+0300
TZOFFSETTO:+0200
TZNAME:EET
DTSTART:20251026T010000
END:STANDARD
END:VTIMEZONE
BEGIN:VEVENT
DTSTART;TZID=Europe/Paris:20251002T120000
DTEND;TZID=Europe/Paris:20251002T190000
DTSTAMP:20260420T094107
CREATED:20250919T121146Z
LAST-MODIFIED:20251001T084916Z
UID:10000015-1759406400-1759431600@ingenium-web2.admin.uoc.gr
SUMMARY:Well-Being Days
DESCRIPTION:As part of INGENIUM’s commitment to foster student well-being\, several partner universities are hosting Well-Being Days – URN\, UniOvi\, TUIASI\, HIS.\nThese events encourage students to discover a variety of activities available on their campuses that promote both physical and mental health. The aim is to encourage a balanced lifestyle – nurturing a healthy mind in a healthy body. \nThe University of Rouen Normandy organises a “Color Run”. The initiative is the final event of the welcoming month dedicated to present universities and campuses services to students. \nOn Thursday\, October 2\, 2025\, from 1:30 p.m. to 7:00 p.m. on the Presqu’île Rollet near the river Seine the University of Rouen Normandy organized the event Campus en Scène. \nOn the program: a Color Run\, DJ set\, student associations and partner village\, inflatable games\, photo booth\, and much more. A festive and friendly atmosphere is guaranteed to close this colorful “Welcome to the University!” month. \nINGENIUM will also be present with its own stand\, offering several interactive activities: \n\nan INGENIUM quiz\,\na participatory collage wall to share and reflect on INGENIUM values\na “wishes for the future” space\na student well-being corner\, inspired by the presentation of Paul Nolan (MTU) during the Junior School in Pescara (May 2025)\, highlighting simple daily actions to better manage the stress of student life.\n\nThe day will conclude with the prize draw of the Welcome Month contest\, open throughout the month and on the event day itself.
URL:https://ingenium-web2.admin.uoc.gr/ingenium-main-site/event/well-being-days-2/
LOCATION:URN\, 1 rue Thomas Becket\, Mont-Saint-Aignan\, 76821\, France
CATEGORIES:Ingenium Event
END:VEVENT
BEGIN:VEVENT
DTSTART;TZID=Europe/Helsinki:20251007T100000
DTEND;TZID=Europe/Helsinki:20251007T150000
DTSTAMP:20260420T094107
CREATED:20251001T091957Z
LAST-MODIFIED:20251001T091957Z
UID:10000023-1759831200-1759849200@ingenium-web2.admin.uoc.gr
SUMMARY:INGENIUM Founders Hub Kick Off
DESCRIPTION:Are you curious about student entrepreneurship or want to hear what’s new within the\nINGENIUM alliance? Come join the Kick Off event for INGENIUM Founders Hub (IFH)! \nINGENIUM Founders Hub is one of the INGENIUM Students Partnership projects. \nWednesday\, October 8\, 2025\nXamk\, Kotka Campus\, Library Lobby (2nd floor)\n☕ Free coffee\, tea\, popcorn\, and candy! \nWe’ll introduce the brand-new IFH project\, which aims to build a student-driven\nentrepreneurial community within INGENIUM. You’ll meet people from PatteriES and\nINGENIUM – it’s all about relaxed conversations\, inspiration\, and connecting with\nlike-minded students. \nNo registration needed – just show up! \nComplete a small task and be among the first to earn the exclusive IFH overall patch –\navailable for the first 45 participants! \nThis is your chance to be part of something new and exciting. See you there!
URL:https://ingenium-web2.admin.uoc.gr/ingenium-main-site/event/ingenium-founders-hub-kick-off/
LOCATION:Xamk Kotka\, Salakuljettajantie 4\, Kotka\, 48100\, Finland
CATEGORIES:Onsite Events
ATTACH;FMTTYPE=image/jpeg:https://ingenium-web2.admin.uoc.gr/ingenium-main-site/wp-content/uploads/2025/10/Intra-News.jpg
END:VEVENT
BEGIN:VEVENT
DTSTART;TZID=Europe/Stockholm:20251007T120000
DTEND;TZID=Europe/Stockholm:20251007T133000
DTSTAMP:20260420T094107
CREATED:20250917T093558Z
LAST-MODIFIED:20251002T122358Z
UID:10000008-1759838400-1759843800@ingenium-web2.admin.uoc.gr
SUMMARY:Staff Academy Webinar: AI
DESCRIPTION:Throughout the academic year\, INGENIUM organises several public Staff Academy webinars where there are 1–3 short case presentations on cutting-edge teaching practices\, followed by a lively discussion and Q&A session. The webinars unfold on Zoom and are hosted by the South-Eastern Finland University of Applied Sciences (Xamk). \nTheme of this webinar is AI. \nPreliminary Schedule:\n12:00–12:20 AI in working-life – Kimmo Kaskikallio\, CTO Nordics\, Director\, EY Finland\n12:20–12:30 Discussion\n12:30–12:50 The 10x Teacher: How AI Methods Multiply Our Teaching Impact – Ulisses Moliterno de Camargo\, PhD\, Senior Lecturer in Information Technology at Xamk\n12:50–13:00 Discussion\n13:00–13:20 LEARNING by CREATING – Student-centered teaching with AI tools – Mariano Pierantozzi – Associate Professor of Applied Physics & Miriam D’ignazio – Ph.D.s in Science and Technology for Sustainable Development\, Ud’A\n13:20–13:30 Discussion \nSee more information about the speakers and their presentations below. \nRegister to the webinar here: https://xamk-fi.zoom.us/meeting/register/YAG4nycFTYy0BSdmR89h_Q  \nIf you would like to present your idea\, please contact ingenium@xamk.fi. We will get in touch with the speakers before the event and talk more about the arrangements. As a speaker please remember to also register as a participant for the webinar. \nStaff Academy event recordings and webinars will be published on INGENIUM YouTube channel.  \n  \n\n\nSpeakers and their topics\nKimmo Kaskikallio is the Chief Technology Officer (CTO) for EY Nordics\, leading digital transformation across Public\, Finance\, Energy\, and Utilities sectors. With extensive experience from mainframes to mobile devices\, Kimmo crafts bespoke solutions for clients’ unique challenges. At EY\, Kimmo drives business value through technology-powered transformations\, emphasizing open communication and collaboration. Previously\, he held technical leadership roles at IBM Finland\, specializing in ERP\, EAM\, and custom solutions. Passionate about sustainability\, Kimmo leverages AI to accelerate sustainability efforts\, focusing on building confidence in AI and creating exponential value through holistic but practical approaches. \n\nAI in working-life\n\nAI adaptation current state and future views at workplaces.\nAI is estimated to drive large transformation in workplaces affecting majority of professions and roles. What type of AI scenarios we can think to unfold in the future? What is the current state of AI adaptation and what have we learned from the large scale AI transformation at EY?\n\n\n\nUlisses Moliterno de Camargo\, PhD (University of Helsinki)\, is a Senior Lecturer in Information Technology at South-Eastern Finland University of Applied Sciences. In addition to his teaching responsibilities\, he coordinates international studies within the IT engineering program. His research has focused on applied Artificial Intelligence\, with a growing interest in future-proof educational practices and methodologies. \n\nThe 10x Teacher: How AI Methods Multiply Our Teaching Impact\n\nJust as AI has empowered software engineers to achieve “10x” productivity\, it holds the same transformative potential for teaching. In this talk\, I will explore concrete AI methods and techniques that educators can adopt to streamline preparation\, personalize learning\, and enhance student engagement. The goal is to show how teachers can become “10x teachers” not by working more\, but by working smarter\, with AI as a powerful partner in pedagogy.\n\n\n\nMariano Pierantozzi – Associate Professor of Applied Physics Ud’A \nHe is an Associate Professor of Applied Physics\, with consolidated experience in the field of technical physics. His research activity is mainly devoted to the analysis and modeling of thermophysical and energy-related processes. Over the years\, he has authored numerous scientific publications concerning the thermophysical properties of fluids\, with particular focus on the accurate determination and modeling of quantities such as surface tension\, viscosity\, and thermal conductivity\, as well as other properties relevant to engineering applications. \nA significant part of his work has been dedicated to the application of machine learning techniques to the study of fluid properties. These approaches have been employed both to improve the predictive accuracy of classical models and to develop new methodologies for estimating thermophysical data in cases where experimental information is limited or unavailable. This line of research reflects an effort to combine traditional theoretical and numerical methods with data-driven approaches\, in order to provide tools of practical utility for the scientific and engineering community. \nIn addition to his research\, he has developed an interest in teaching. Although not a pedagogy specialist\, he pays attention to the challenges that students may face when approaching technical subjects. In recent years\, he has introduced the use of artificial intelligence tools in his lectures\, with the aim of facilitating understanding and supporting students in learning the fundamental principles of physics. \nMiriam D’ignazio – Ph.D.s in Science and Technology for Sustainable Development Ud’A \nMiriam D’ignazio (M.Arch.\, B.Sc.) is a Ph.D.s. in Science and Technology for Sustainable Development. Her interdisciplinary background combines a Master’s degree in architecture and a Bachelor’s one in psychology\, integrated by specialized training in Neuroscience Applied to Architectural Design (NAAD) at Iuav University of Venice and Neuroimaging: From Methods to Neuroscience Applications at University of Chieti-Pescara. \nShe studied at École nationale supérieure d’architecture de Normandie (ENSA)\, where she delved into urban sociology;Miriam then worked in Peru with the Municipality of Lima through a year-long international cooperation project with Architecture Sans Frontières International (ASF). \nShe currently works at the Building Physics and Energy Systems laboratory\, where she investigates the relationship between allostatic load and built environmental factors within an interdisciplinary team of engineers\, biologists\, and psychologists. \n\nLEARNING by CREATING – Student-centered teaching with AI tools\n\nThe presentation describes a pedagogical experiment integrating AI tools into a Technical Physics course on convective heat transfer at the University of Chieti-Pescara. Students used AI independently to learn assigned subtopics and create diverse educational materials (videos\, podcasts\, infographics) to teach their peers\, resulting in higher-quality work than expected and positive learning outcomes. The “learning by creating” approach with AI support enhanced student engagement\, creativity\, and understanding while transitioning the instructor from lecturer to learning facilitator.
URL:https://ingenium-web2.admin.uoc.gr/ingenium-main-site/event/staff-academy-webinar-ai/
LOCATION:https://ingenium-web2.admin.uoc.gr/ingenium-main-site/event/staff-academy-webinar-ai/
CATEGORIES:Webinars
ATTACH;FMTTYPE=image/jpeg:https://ingenium-web2.admin.uoc.gr/ingenium-main-site/wp-content/uploads/2025/09/staff-academy-winter-2026.jpg
END:VEVENT
BEGIN:VEVENT
DTSTART;TZID=Europe/Athens:20251008T170000
DTEND;TZID=Europe/Athens:20251008T183000
DTSTAMP:20260420T094107
CREATED:20251001T091838Z
LAST-MODIFIED:20251001T091839Z
UID:10000022-1759942800-1759948200@ingenium-web2.admin.uoc.gr
SUMMARY:“Backpacks to briefcase” WiSTEM2D Virtual event
DESCRIPTION:WiSTEM2D invites students to take part in the virtual event “Backpacks to Briefcases” on Wednesday\, October 8\, 2025\, from 5:00 to 6:30 p.m. (CEST). \nThis engaging session is designed to help students prepare for their professional journey: \n\nAn experienced career & leadership coach will share real-world strategies and tips to navigate today’s workplace\nTalent Acquisition representatives will answer students’ questions and offer insights into early career opportunities\nVirtual format – accessible wherever students are\n\nRegistration required: Join here
URL:https://ingenium-web2.admin.uoc.gr/ingenium-main-site/event/backpacks-to-briefcase-wistem2d-virtual-event/
LOCATION:Iasi
END:VEVENT
BEGIN:VEVENT
DTSTART;TZID=Europe/Paris:20251010T100000
DTEND;TZID=Europe/Paris:20251010T150000
DTSTAMP:20260420T094107
CREATED:20251001T085604Z
LAST-MODIFIED:20251001T085604Z
UID:10000021-1760090400-1760108400@ingenium-web2.admin.uoc.gr
SUMMARY:Well-Being Days
DESCRIPTION:As part of INGENIUM’s commitment to foster student well-being\, several partner universities are hosting Well-Being Days – URN\, UniOvi\, TUIASI\, HIS\, HKA.\nThese events encourage students to discover a variety of activities available on their campuses that promote both physical and mental health. The aim is to encourage a balanced lifestyle – nurturing a healthy mind in a healthy body. \nHKA invites students to join on Friday\, October 10\, 2025\, from 10:00 a.m. to 3:00 p.m. on campus for a WellBeing Event\, organized in cooperation with the student group Healthy HKA. \n\nRelaxing break with tea\, homemade lemonade\, and fresh fruit\nThankfulness Wall to share what you are grateful for\nCreative mindfulness corner with materials for designing cards or decorating bags and clothing brought from home\nInformation stands on Healthy HKA and INGENIUM\n\nTake a pause\, recharge your energy\, and discover how well-being and creativity can become part of everyday student life!
URL:https://ingenium-web2.admin.uoc.gr/ingenium-main-site/event/well-being-days/
LOCATION:HKA\, Moltkestr. 30\, Karlsruhe\, 76133\, Germany
CATEGORIES:Ingenium Event
END:VEVENT
BEGIN:VEVENT
DTSTART;VALUE=DATE:20251028
DTEND;VALUE=DATE:20251030
DTSTAMP:20260420T094107
CREATED:20251021T081851Z
LAST-MODIFIED:20251021T140450Z
UID:10000028-1761609600-1761782399@ingenium-web2.admin.uoc.gr
SUMMARY:INGENIUM Academic Networking Meeting @ TUIASI - Engineering (STEM)
DESCRIPTION:TUIASI is welcoming INGENIUM staff for a 2-days\, on-site event with a central focus to enhance the learning opportunities for students and collaborations for academics and staff for education and research. \nThe partipiants will explore\, identify and establish the groundwork for new and developing existing initiatives that can lead to the creation of new joint courses\, programs\, and to joint PhD supervisions. \nTopics: \n\nPathway Programs – existing and new initiatives\nJoint Program in AI\nDevelopments of Blended Intensive Programs – BIPs\nMicrocredentials – existing and new initiatives\nJoint PhD supervision\, Joint PhD programs with a focus on Engineering/STEAM\n\nThis meeting is part of Academic Networking Meetings events that aims to offer lecturers and researchers a new format for networking with our partner universities on specific topics\, launching innovative teaching formats and research projects or further developing joint projects. \nWe kindly invite the participating staff to fill in this GOOGLE FORM by 22nd of October.
URL:https://ingenium-web2.admin.uoc.gr/ingenium-main-site/event/tuiasi-academic-networking-meeting-engineering-stem/
LOCATION:TUIASI\, Iasi\, Romania
CATEGORIES:Academic Networking,Ingenium Event,Onsite Events
ATTACH;FMTTYPE=image/jpeg:https://ingenium-web2.admin.uoc.gr/ingenium-main-site/wp-content/uploads/2025/10/120225_Ingenium_kuva-Pihla-Liukkonen-Kontrastia-12-scaled.jpg
END:VEVENT
END:VCALENDAR