BEGIN:VCALENDAR
VERSION:2.0
PRODID:-//Ingenium - ECPv6.13.2.1//NONSGML v1.0//EN
CALSCALE:GREGORIAN
METHOD:PUBLISH
X-ORIGINAL-URL:https://ingenium-web2.admin.uoc.gr/ingenium-main-site
X-WR-CALDESC:Events for Ingenium
REFRESH-INTERVAL;VALUE=DURATION:PT1H
X-Robots-Tag:noindex
X-PUBLISHED-TTL:PT1H
BEGIN:VTIMEZONE
TZID:Europe/Stockholm
BEGIN:DAYLIGHT
TZOFFSETFROM:+0100
TZOFFSETTO:+0200
TZNAME:CEST
DTSTART:20250330T010000
END:DAYLIGHT
BEGIN:STANDARD
TZOFFSETFROM:+0200
TZOFFSETTO:+0100
TZNAME:CET
DTSTART:20251026T010000
END:STANDARD
END:VTIMEZONE
BEGIN:VTIMEZONE
TZID:Europe/Paris
BEGIN:DAYLIGHT
TZOFFSETFROM:+0100
TZOFFSETTO:+0200
TZNAME:CEST
DTSTART:20250330T010000
END:DAYLIGHT
BEGIN:STANDARD
TZOFFSETFROM:+0200
TZOFFSETTO:+0100
TZNAME:CET
DTSTART:20251026T010000
END:STANDARD
END:VTIMEZONE
BEGIN:VTIMEZONE
TZID:Europe/Bucharest
BEGIN:DAYLIGHT
TZOFFSETFROM:+0200
TZOFFSETTO:+0300
TZNAME:EEST
DTSTART:20250330T010000
END:DAYLIGHT
BEGIN:STANDARD
TZOFFSETFROM:+0300
TZOFFSETTO:+0200
TZNAME:EET
DTSTART:20251026T010000
END:STANDARD
END:VTIMEZONE
BEGIN:VTIMEZONE
TZID:Europe/Athens
BEGIN:DAYLIGHT
TZOFFSETFROM:+0200
TZOFFSETTO:+0300
TZNAME:EEST
DTSTART:20250330T010000
END:DAYLIGHT
BEGIN:STANDARD
TZOFFSETFROM:+0300
TZOFFSETTO:+0200
TZNAME:EET
DTSTART:20251026T010000
END:STANDARD
END:VTIMEZONE
BEGIN:VEVENT
DTSTART;TZID=Europe/Stockholm:20250910T083000
DTEND;TZID=Europe/Stockholm:20250912T120000
DTSTAMP:20260420T094254
CREATED:20250904T100721Z
LAST-MODIFIED:20250904T102857Z
UID:10000006-1757493000-1757678400@ingenium-web2.admin.uoc.gr
SUMMARY:INGENIUM is exhibiting at EAIE 2025 in Gothenburg
DESCRIPTION:From 9 to 12 September 2025\, the European higher education community will gather in Gothenburg for the 35th Annual EAIE Conference and Exhibition. Under this year’s theme\, “GO-Create”\, the event will bring together thousands of professionals from around the world to explore new ideas and shape the future of international education. \n\nMeet INGENIUM at Stand P80\n\n\n\nFor the second year in a row\, INGENIUM European University Alliance will be present at the EAIE 2025\, in the Exhibition Area\, this time at Stand P80\, together with fellow alliances EU GREEN and NEOLAiA.  \nVisitors are warmly invited from Wednesday 10 Septemeber till Friday 12 September to drop by our booth and get to know the people behind INGENIUM and explore more on how our alliance is fostering cross‑border cooperation\, enhancing educational impact\, and supporting students and staff through our activities.
URL:https://ingenium-web2.admin.uoc.gr/ingenium-main-site/event/ingenium-at-eaie-2025-gothenburg/
LOCATION:Booth P80\, Exhibition Area\, Svenska Mässan\, Mässans Gata/Korsvägen\, Gothenburg\, SE-412 94\, Sweden
CATEGORIES:International Conferences,Onsite Events
ATTACH;FMTTYPE=image/jpeg:https://ingenium-web2.admin.uoc.gr/ingenium-main-site/wp-content/uploads/2025/09/INGENIUM-to-participate-in-eaie-2025-conference-in-gothenburg-featured-image.jpg
END:VEVENT
BEGIN:VEVENT
DTSTART;VALUE=DATE:20250918
DTEND;VALUE=DATE:20250919
DTSTAMP:20260420T094254
CREATED:20251013T094121Z
LAST-MODIFIED:20251013T094121Z
UID:10000027-1758153600-1758239999@ingenium-web2.admin.uoc.gr
SUMMARY:Well-Being Days
DESCRIPTION:As part of INGENIUM’s commitment to foster student well-being\, several partner universities are hosting Well-Being Days – URN\, UNIOVI\, TUIASI\, HIS\, MUS.\nThese events encourage students to discover a variety of activities available on their campuses that promote both physical and mental health. The aim is to encourage a balanced lifestyle – nurturing a healthy mind in a healthy body. \n“Integrated Public Health in the 21st Century” a lecture was held by Medical University of Sofia on 18 September during the “back to school” event.  
URL:https://ingenium-web2.admin.uoc.gr/ingenium-main-site/event/well-being-days-6/
LOCATION:MUS\, bul. „Acad. Ivan Geshov" № 15\, Sofia\, Bulgaria
CATEGORIES:Ingenium Event
GEO:42.683404607005;23.302736288358
X-APPLE-STRUCTURED-LOCATION;VALUE=URI;X-ADDRESS=MUS bul. „Acad. Ivan Geshov" № 15 Sofia Bulgaria;X-APPLE-RADIUS=500;X-TITLE=bul. „Acad. Ivan Geshov" № 15:geo:23.302736288358,42.683404607005
END:VEVENT
BEGIN:VEVENT
DTSTART;TZID=Europe/Stockholm:20250922T080000
DTEND;TZID=Europe/Stockholm:20250928T170000
DTSTAMP:20260420T094254
CREATED:20250919T142310Z
LAST-MODIFIED:20250919T142659Z
UID:10000019-1758528000-1759078800@ingenium-web2.admin.uoc.gr
SUMMARY:International week of activities multilingualism
DESCRIPTION:Welcome to a week full of languages\, culture\, and community! \nWithin the framework of the Work Package 9.3 “Multilingualism and Multiculturalism” the University of Skövde and ESN Skövde invite you to an INGENIUM International week of activities celebrating multilingualism\, interculturality\, and diversity.  \n  \n 22–28 September 2025 \nMonday 22/9 – Meeple Monday games from different cultures\n18:30\, Kungsgatan 17\, Skövde \nTuesday 23/9 – International Music and Dance\n17:15 – 21:00\, room G116 \nWednesday 24/9 – Multilingual Language Café\n17:15 – 21:00\, room G116 \nThursday 25/9 – International Poetry Evening\n18:00 – 21:00\, University Library\, Living Room \nFriday 26/9 – International Potluck\n18:00 – 21:00\, room G216/217 \nSaturday 27/9 – Swedish Movie Matinee\n11:00 – 14:00\, room E018 \nSunday 28/9 – International Fashion Show\n17:00 – 21:00\, room G216/217
URL:https://ingenium-web2.admin.uoc.gr/ingenium-main-site/event/international-week-of-activities-multilingualism/
LOCATION:HIS\, Skövde\, Sweden
CATEGORIES:Ingenium Event,Onsite Events
END:VEVENT
BEGIN:VEVENT
DTSTART;TZID=Europe/Stockholm:20250924T120000
DTEND;TZID=Europe/Stockholm:20250924T130000
DTSTAMP:20260420T094254
CREATED:20250916T100042Z
LAST-MODIFIED:20250917T125817Z
UID:10000007-1758715200-1758718800@ingenium-web2.admin.uoc.gr
SUMMARY:Sharing Open Educational Practices webinar
DESCRIPTION:This webinar will make Open Educational Practices more known to the teachers and staff\, both in general and in the INGENIUM University partners. \nRegistration link: https://his-se.zoom.us/meeting/register/Hkknba94T0O-bNMU7z407Q \n\n\n\nTarget group: teachers\, content creators\, administratitativ staff\, technical staff \nHost and moderator: WP5 Cai Weaver\, XAMK \nTech support: WP3 Johani Karonen\, University of Skövde \nTeam of organizers: Jeremiah Spillane\, MTU\, Qiuhong Boers\, Krister Johannesson\, HIS\, Terhi Kaipainen\, Matti Strengell\, XAMK \n\n\nPreliminary Program (subject to minor adjustments):\n12:00 – Welcome and Keynote  – INGENIUM Director Ana Isabel Álvarez González giving a forward-looking inspirational speach\, reflecting INGENIUM’s shared goals: openness\, joint learning opportunities\, collaboration\, and the European campus vision.\nSets the tone and vision for openness and collaboration within INGENIUM. \n12:05 – Why it is useful to publish Educational Material in places where it can be found – Dr. Jeremiah Spillane\, Department of Technology Enhanced Learning (TEL)\, Munster Technological University (MTU) \nNext\, we explore why and where to publish OER for maximum visibility and impact. \n12:15 – The benefits of CC licenses in Open Science and OER – Qiuhong Boers & Krister Johannesson\, Library\, University of Skövde (HIS) \nAfter understanding where to share\, we’ll look at how Creative Commons licenses ensure clarity and reuse. \n12:25 – What Open Educational Practices can benefit  – Terhi Kaipainen\, Library Services\, South-Eastern Finland University of Applied Sciences (Xamk) \nFinally\, we bring these principles together into actionable strategies and examples. \n12:35 – Workshops on Open Educational Resources \n12:50 – Discussion and Closing Remarks \n  \n\n\n\nSpeakers names\, specialties\, roles\nDr Jeremiah Spillane\, Educational Technologist/Instructional Designer\, Department of Technology Enhanced Learning (TEL)\, Munster Technological University (MTU). Dr Jeremiah Spillane is an instructional designer and digital learning specialist working with the Dept. of Technology Enhanced Learning (TEL) at Munster Technological University (MTU). He has a particular interest in the interface between culture and technology\, particularly for educational purposes. He has wide ranging experience in open educational resources (OER) and open educational practices (OEP)\, from open access publishing\, open access journals\, to supporting the creation and distribution of openly accessible media-rich learning materials. \nKrister Johannesson\, Librarian\, Team Research Support\, University of Skövde Library. Working with support for researchers and doctoral students including information seeking\, publication considerations\, open access\, the repository DiVA\, bibliometrics and reference management. \nQiuhong Boers\, Librarian\, Team Research Support\, University of Skövde Library. Member of University of Skövde  DAU (Data Access Unit). Working with research data management since 2018. Will talk about Creative Commons License for Open Educational Resources in relation to FAIR principles under the Open Science framework. \nTerhi Kaipainen\, Information Specialist\, Library Services\, South-Eastern Finland University of Applied Sciences\, Xamk. I have been working with open science themes since 2015\, focusing more on open education since 2019. I am in the national expert panel in Open Education as one of the chairs\, and I am in charge of working group Peer support for Open Education. Furthermore\, I have also lead quality work for open educational resources (OER) and open education practices (OEP) on national level. In my daily work I am teaching about open education themes and help the staff and students with the open education questions like quality\, CC-licenses\, seeking information\, finding\, making\, and publishing OER’s.  \nCai Weaver is a language specialist at the South-Eastern Finland University of Applied Sciences. He supports staff in producing scientific publications\, open educational resources\, and micro-courses based on their teaching and research. He has also produced several open access educational resources\, such as a Moodle course on “Producing Micro-Content in a Team”. In the INGENIUM European University\, Cai works as a pedagogical specialist in the Innovative teaching and lifelong learning work package. He has helped to create the common Micro-Credential policy for INGENIUM and developed the Education Lab garage concept to help educators create innovative new teaching methods\, educational products\, and joint micro-credentials. \nFamiliarize yourself with Micro Credentials and Open Education\nINGENIUM Micro-Credentials and Open Education Webinar\, 25th November 2024:\nhttps://www.youtube.com/watch?v=Lu46mhTMQbE \nGetting Started with INGENIUM Micro Credentials: From Design to Finalization (23.4.2025):\nhttps://youtu.be/WMmv3aw4NJU
URL:https://ingenium-web2.admin.uoc.gr/ingenium-main-site/event/sharing-open-educational-practices-webinar/
LOCATION:https://ingenium-web2.admin.uoc.gr/ingenium-main-site/event/sharing-open-educational-practices-webinar/
CATEGORIES:Calls for participation,Webinars
ATTACH;FMTTYPE=image/jpeg:https://ingenium-web2.admin.uoc.gr/ingenium-main-site/wp-content/uploads/2025/09/DSC8393-1.jpg
END:VEVENT
BEGIN:VEVENT
DTSTART;TZID=Europe/Paris:20250924T120000
DTEND;TZID=Europe/Paris:20250924T140000
DTSTAMP:20260420T094254
CREATED:20250919T121520Z
LAST-MODIFIED:20250922T074218Z
UID:10000016-1758715200-1758722400@ingenium-web2.admin.uoc.gr
SUMMARY:Well-Being Days
DESCRIPTION:As part of INGENIUM’s commitment to foster student well-being\, several partner universities are hosting Well-Being Days – URN\, UNIOVI\, TUIASI\, HIS.\nThese events encourage students to discover a variety of activities available on their campuses that promote both physical and mental health. The aim is to encourage a balanced lifestyle – nurturing a healthy mind in a healthy body. \nAt UNIOVI there is a free access to all sport facilities.\n– Gijón Campus: “Getting started with exercise in a Gym”\n– Mieres Campus: “Full-Body physical exercise”\n– Oviedo campus:  “Getting started with exercise in a Gym” and “Tai-Jitsu class”
URL:https://ingenium-web2.admin.uoc.gr/ingenium-main-site/event/well-being-days-3/
LOCATION:Oviedo\, Oviedo\, Spain
CATEGORIES:Ingenium Event
END:VEVENT
BEGIN:VEVENT
DTSTART;TZID=Europe/Bucharest:20250929T130000
DTEND;TZID=Europe/Bucharest:20250929T190000
DTSTAMP:20260420T094254
CREATED:20250919T121722Z
LAST-MODIFIED:20250929T105027Z
UID:10000017-1759150800-1759172400@ingenium-web2.admin.uoc.gr
SUMMARY:Well-Being Days
DESCRIPTION:As part of INGENIUM’s commitment to foster student well-being\, several partner universities are hosting Well-Being Days – URN\, UniOvi\, TUIASI\, HIS. \nThese events encourage students to discover a variety of activities available on their campuses that promote both physical and mental health. The aim is to encourage a balanced lifestyle – nurturing a healthy mind in a healthy body. \nAs part of the INGENIUM Wellbeing Days\, TUIASI is hosting a vibrant Garden Party in Tudor Campus on 29 September\, from 13:00 to 19:00. Students will enjoy sports\, social games\, music from a DJ\, and interactive booths from INGENIUM and all Student Leagues. \nActivities include badminton\, volleyball\, spikeball\, frisbee\, giant Jenga\, Twister\, and many more fun outdoor games — all designed to promote relaxation\, connection\, and a healthy lifestyle. \n 
URL:https://ingenium-web2.admin.uoc.gr/ingenium-main-site/event/well-being-days-4/
LOCATION:TUIASI Tudor Campus\, Bulevardul Tudor Vladimirescu\, Iasi\, Iasi\, 700560\, Romania
CATEGORIES:Ingenium Event,Onsite Events
END:VEVENT
BEGIN:VEVENT
DTSTART;TZID=Europe/Athens:20250930T123000
DTEND;TZID=Europe/Athens:20250930T180000
DTSTAMP:20260420T094254
CREATED:20250828T090726Z
LAST-MODIFIED:20250828T091633Z
UID:10000005-1759235400-1759255200@ingenium-web2.admin.uoc.gr
SUMMARY:Climate Fresk: The World’s Largest Climate Education Event
DESCRIPTION:On Tuesday\, September 30\, 2025\, at 1:00 p.m.\, Karlsruhe University of Applied Sciences will host an extraordinary record-setting event: the world’s largest Climate Fresk workshop\, organized as part of the INGENIUM European University Alliance. With the ambitious goal of setting up a new Guiness World Record by engaging over 1\,800 participants on-site\, the event aims to raise awareness of the urgent challenges posed by climate change while sending a powerful\, united message for global climate protection. \nA Europe-Wide Climate Action Day\nThis event will not stand alone. Across Europe\, other Climate Fresk workshops will take place on the same day as part of a coordinated international effort. Also\, through the initiative of HKA other INGENIUM partners will join the effort by organizing their own local connected events. \nBy connecting these parallel events\, participants from Karlsruhe will join thousands of others in a continent-wide network dedicated to learning\, collaboration\, and climate action. Together\, these activities will amplify the message that climate awareness and sustainable action transcend borders. \nWhat is Climate Fresk?\nClimate Fresk is a groundbreaking educational tool that uses a collaborative “climate puzzle” approach to reveal the complex scientific relationships behind climate change. Participants piece together the causes\, consequences\, and dynamics of the climate crisis. This hands-on approach not only builds understanding but also empowers people to envision solutions and take meaningful action. \nWhat makes Climate Fresk unique is its combination of scientific rigor and engaging\, interactive learning methods. Based on the latest findings of the Intergovernmental Panel on Climate Change (IPCC)\, the workshop transforms abstract data into a clear\, visual\, and collective experience. By encouraging teamwork and discussion\, it helps participants develop both knowledge and the motivation to act. \nGoals of the Event\nThe mission behind this world record attempt is to unite and engage people on an unprecedented scale. By mobilizing more than 1\,800 participants in Karlsruhe alone with dozens more from INGENIUM partners\, and connecting them with parallel events across Europe\, the organizers aim to create an extraordinary collective learning experience and demonstrate the power of international collaboration in tackling the climate emergency. \nExperience and Previous Successes\nThe organizing team brings extensive experience. One of the project’s initiators\, a board member for education at Climate Fresk Deutschland e.V.\, has already facilitated numerous large-scale Climate Fresk workshops\, some involving over 200 participants. Building on this expertise\, the 2025 event is set to raise the bar for collaborative climate education. \nJoin the INGENIUM Movement\nThis Climate Fresk workshop is part of the INGENIUM European University Alliance’s commitment to sustainability and social responsibility. By participating\, individuals will not only take part in a historic world record attempt but also become part of a Europe-wide network of learners and change-makers striving for a sustainable future. You can also take action yourself: either join us or look for local groups via climatefresk.org to participate in a Climate Fresk workshop on-site or online.
URL:https://ingenium-web2.admin.uoc.gr/ingenium-main-site/event/climate-fresk-the-worlds-largest-climate-education-event/
LOCATION:HKA\, Moltkestr. 30\, Karlsruhe\, 76133\, Germany
CATEGORIES:Onsite Events,Workshops
END:VEVENT
END:VCALENDAR