BEGIN:VCALENDAR
VERSION:2.0
PRODID:-//Ingenium - ECPv6.13.2.1//NONSGML v1.0//EN
CALSCALE:GREGORIAN
METHOD:PUBLISH
X-WR-CALNAME:Ingenium
X-ORIGINAL-URL:https://ingenium-web2.admin.uoc.gr/ingenium-main-site
X-WR-CALDESC:Events for Ingenium
REFRESH-INTERVAL;VALUE=DURATION:PT1H
X-Robots-Tag:noindex
X-PUBLISHED-TTL:PT1H
BEGIN:VTIMEZONE
TZID:Europe/Athens
BEGIN:DAYLIGHT
TZOFFSETFROM:+0200
TZOFFSETTO:+0300
TZNAME:EEST
DTSTART:20250330T010000
END:DAYLIGHT
BEGIN:STANDARD
TZOFFSETFROM:+0300
TZOFFSETTO:+0200
TZNAME:EET
DTSTART:20251026T010000
END:STANDARD
END:VTIMEZONE
BEGIN:VEVENT
DTSTART;VALUE=DATE:20251210
DTEND;VALUE=DATE:20251212
DTSTAMP:20260419T192829
CREATED:20251103T084617Z
LAST-MODIFIED:20251103T084617Z
UID:10000031-1765324800-1765497599@ingenium-web2.admin.uoc.gr
SUMMARY:Academic Networking Event @ URN - Sustainable Development
DESCRIPTION:The Academic Staff Meetings\, have the purpose of finding new and developing existing collaborations in education and research that can lead to development of new joint courses and programmes\, in particular INGENIUM pathway and flagship programmes and microcredentials\, and to new joint research projects. \nIn this meeting hosted by University of Rouen Normandy\, France\, we invite 2-3 INGENIUM academic staff members from each partner university who are interested in developing and implementing Flagship Programmes\, Pathways or Micro-credentials on topics related to the Socio-Ecological Transition and Sustainable Development. \nGoal of the meeting: Identify SDG themes that can lead to development of new joint courses and programmes\, in particular INGENIUM pathways and flagship programmes as well as short courses. \nTracks: \n\nBachelor’s track: Joint Pathway Programmes in Socio-ecological transition at\nBachelor level (climate\, energy\, resources and biodiversity\, new socio-economic models\, environmental humanities\, …). URN will present its programme of asynchronous and face-to-face courses on socio-ecological transition issues (from 10 to 50 hours\, bachelor’s level).\nMaster’s Track 1: Sustainable Development and Circular Economy\nMaster’s Track 2: Sustainable Management and Coastal Conservation.\nPhD Ecosystem: Sustainable Development\n\nRegistration until 15th of November 2025. \nFor more information on how to apply\, contact your local INGENIUM Office for details. \nProgramme and travel information
URL:https://ingenium-web2.admin.uoc.gr/ingenium-main-site/event/academic-networking-event-urn-sustainable-development/
LOCATION:URN\, 1 rue Thomas Becket\, Mont-Saint-Aignan\, 76821\, France
CATEGORIES:Academic Networking,Onsite Events
ATTACH;FMTTYPE=image/jpeg:https://ingenium-web2.admin.uoc.gr/ingenium-main-site/wp-content/uploads/2025/10/120225_Ingenium_kuva-Pihla-Liukkonen-Kontrastia-12-scaled.jpg
END:VEVENT
END:VCALENDAR